BEGIN:VCALENDAR
VERSION:2.0
PRODID:-//Juliette Gauthier - ECPv6.0.10//NONSGML v1.0//EN
CALSCALE:GREGORIAN
METHOD:PUBLISH
X-ORIGINAL-URL:https://juliette-gauthier.com
X-WR-CALDESC:évènements pour Juliette Gauthier
REFRESH-INTERVAL;VALUE=DURATION:PT1H
X-Robots-Tag:noindex
X-PUBLISHED-TTL:PT1H
BEGIN:VTIMEZONE
TZID:Europe/Zurich
BEGIN:DAYLIGHT
TZOFFSETFROM:+0100
TZOFFSETTO:+0200
TZNAME:CEST
DTSTART:20260329T010000
END:DAYLIGHT
BEGIN:STANDARD
TZOFFSETFROM:+0200
TZOFFSETTO:+0100
TZNAME:CET
DTSTART:20261025T010000
END:STANDARD
END:VTIMEZONE
BEGIN:VEVENT
DTSTART;TZID=Europe/Zurich:20260806T110000
DTEND;TZID=Europe/Zurich:20260806T133000
DTSTAMP:20260419T190721
CREATED:20260314T205002Z
LAST-MODIFIED:20260314T205002Z
UID:29994-1786014000-1786023000@juliette-gauthier.com
SUMMARY:Young baroque Concert - Innsbrucker Festwochen der Alten Musik
DESCRIPTION:
URL:https://juliette-gauthier.com/event/young-baroque-concert-innsbrucker-festwochen-der-alten-musik/
LOCATION:Haus der Musik Innsbruck\, Großer Saal\, Universitätsstraße 1\, Innsbruck\, 6020\, Austria
END:VEVENT
END:VCALENDAR