BEGIN:VCALENDAR
VERSION:2.0
PRODID:-//Juliette Gauthier - ECPv6.0.10//NONSGML v1.0//EN
CALSCALE:GREGORIAN
METHOD:PUBLISH
X-ORIGINAL-URL:https://juliette-gauthier.com
X-WR-CALDESC:évènements pour Juliette Gauthier
REFRESH-INTERVAL;VALUE=DURATION:PT1H
X-Robots-Tag:noindex
X-PUBLISHED-TTL:PT1H
BEGIN:VTIMEZONE
TZID:Europe/Zurich
BEGIN:DAYLIGHT
TZOFFSETFROM:+0100
TZOFFSETTO:+0200
TZNAME:CEST
DTSTART:20260329T010000
END:DAYLIGHT
BEGIN:STANDARD
TZOFFSETFROM:+0200
TZOFFSETTO:+0100
TZNAME:CET
DTSTART:20261025T010000
END:STANDARD
END:VTIMEZONE
BEGIN:VEVENT
DTSTART;TZID=Europe/Zurich:20260709T120000
DTEND;TZID=Europe/Zurich:20260719T120000
DTSTAMP:20260419T155654
CREATED:20260314T204716Z
LAST-MODIFIED:20260314T205149Z
UID:29990-1783598400-1784462400@juliette-gauthier.com
SUMMARY:Sports et divertissements - Skene
DESCRIPTION:« SPORTS ET DIVERTISSEMENTS » est un cycle de 21 pièces brèves pour piano d’Erik Satie\, associées en 1914 aux dessins de Charles Martin. Pour cet opéra de poche\, chaque scénette a été réécrite pour un trio instrumental et sera suivi de sa version lyrique « actualisée » composée par Catherine Verhelst à partir des textes de Satie réservés à l’origine au seul pianiste qui jouait ce recueil. En toile de fond\, un vaste écran accueillera l’oeuvre dessinée de l’artiste et cinéaste d’animation portugaise Regina Pessoa\, dans un bestiaire fantastique faisant naître comme autant de décors ou évolueront nos deux personnages et le trio de musiciennes\, alto\, clarinette et piano.\n\n\nTOUS LES JOURS DU 9 AU 19 JUILLET A 12H\nFestival Avignon Off
URL:https://juliette-gauthier.com/event/sports-et-divertissements-skene/
LOCATION:LaScierie\, 15 boulevard Saint-Lazare\, Avignon\, 84000\, France
END:VEVENT
END:VCALENDAR